BEGIN:VCALENDAR
VERSION:2.0
PRODID:-//Superior Inn Grand Marais - ECPv6.15.20//NONSGML v1.0//EN
CALSCALE:GREGORIAN
METHOD:PUBLISH
X-WR-CALNAME:Superior Inn Grand Marais
X-ORIGINAL-URL:https://superiorinngrandmarais.com
X-WR-CALDESC:Events for Superior Inn Grand Marais
REFRESH-INTERVAL;VALUE=DURATION:PT1H
X-Robots-Tag:noindex
X-PUBLISHED-TTL:PT1H
BEGIN:VTIMEZONE
TZID:UTC
BEGIN:STANDARD
TZOFFSETFROM:+0000
TZOFFSETTO:+0000
TZNAME:UTC
DTSTART:20180101T000000
END:STANDARD
END:VTIMEZONE
BEGIN:VEVENT
DTSTART;VALUE=DATE:20190925
DTEND;VALUE=DATE:20190930
DTSTAMP:20260424T133655
CREATED:20190826T112611Z
LAST-MODIFIED:20190826T112611Z
UID:3898-1569369600-1569801599@superiorinngrandmarais.com
SUMMARY:Grand Marais Oktoberfest
DESCRIPTION:2019 Grand Marais Oktoberfest\nJoin us for the 4th Annual Grand Marais Oktoberfest on September 25-29\, 2019 at Voyageur Brewing Company in Grand Marais\, MN\, as we celebrate Oktoberfest. We’ll have music\, games\, food and a special Oktoberfest beer. The Grand Marais Oktoberfest serves as a fundraiser for the Cook County Community fund\, which supports local non-profits. \nYou can enjoy craft beer from Voyageur Brewing Company in Grand Marais\, Minnesota whenever you’d like. There doesn’t need to be a special event to visit our beautiful taproom with a terrific view of Lake Superior. But if you need a nudge to get out and enjoy a delicious beer then we’re here to give you that nudge. \n \nGrand Marais\, MN Live MusicWe host special events in the taproom including bag tournaments\, live music\, beer release parties and more. We also attend events like tap takeovers\, craft beer festivals and tastings across the state. \nLocation\nVoyageur Brewing Company\n233 West Highway 61\nGrand Marais\, MN 55604 \nFor More Information: Call 218-387-3163; Email info@voyageurbrewing.com \nMark your calendar today so you don’t miss the next Grand Marais Oktoberfest in Septemeber in Grand Marais\, Minnesota. \nTags: Grand Marais Oktoberfest\, Oktoberfest\, Grand Marais Annual Events
URL:https://superiorinngrandmarais.com/event/grand-marais-oktoberfest/
LOCATION:Voyageur Brewing Company\, 233 West Highway 61\, Grand Marais\, 55604\, United States
CATEGORIES:All Hotel Events,Annual Evemts,Local Non Hotel Event
ATTACH;FMTTYPE=image/jpeg:https://superiorinngrandmarais.com/wp-content/uploads/2019/08/grand-marais-oktoberfest-03-1400x800.jpg
ORGANIZER;CN="Voyageur Brewing Company":MAILTO:info@voyageurbrewing.com
END:VEVENT
END:VCALENDAR